Workbook

Sheet données
A1: id | B1: Classe | C1: Prénom élève | D1: Nom élève | E1: Test Spécifique - Automatismes | F1: Expressions algébriques | G1: Nombres et calculs | H1: Organisation et gestions de données | I1: Profil
A2: =CONCATENATE(B2,LEFT(C2,4),LEFT(D2,4)) | I2: =VLOOKUP($A2,calculs!$A$2:$J$500,10,0) -> #N/A
A3: =CONCATENATE(B3,LEFT(C3,4),LEFT(D3,4)) | I3: =VLOOKUP($A3,calculs!$A$2:$J$500,10,0) -> #N/A | K3: Répartition des profils | L3: Nombre | M3: pourcentage
A4: =CONCATENATE(B4,LEFT(C4,4),LEFT(D4,4)) | I4: =VLOOKUP($A4,calculs!$A$2:$J$500,10,0) -> #N/A | K4: A | L4: =COUNTIFS($I$2:$I$500,K4) -> 0 | M4: =L4/$L$13 -> #DIV/0!
A5: =CONCATENATE(B5,LEFT(C5,4),LEFT(D5,4)) | I5: =VLOOKUP($A5,calculs!$A$2:$J$500,10,0) -> #N/A | K5: B | L5: =COUNTIFS($I$2:$I$500,K5) -> 0 | M5: =L5/$L$13 -> #DIV/0!
A6: =CONCATENATE(B6,LEFT(C6,4),LEFT(D6,4)) | I6: =VLOOKUP($A6,calculs!$A$2:$J$500,10,0) -> #N/A | K6: C | L6: =COUNTIFS($I$2:$I$500,K6) -> 0 | M6: =L6/$L$13 -> #DIV/0!
A7: =CONCATENATE(B7,LEFT(C7,4),LEFT(D7,4)) | I7: =VLOOKUP($A7,calculs!$A$2:$J$500,10,0) -> #N/A | K7: D | L7: =COUNTIFS($I$2:$I$500,K7) -> 0 | M7: =L7/$L$13 -> #DIV/0!
A8: =CONCATENATE(B8,LEFT(C8,4),LEFT(D8,4)) | I8: =VLOOKUP($A8,calculs!$A$2:$J$500,10,0) -> #N/A | K8: E | L8: =COUNTIFS($I$2:$I$500,K8) -> 0 | M8: =L8/$L$13 -> #DIV/0!
A9: =CONCATENATE(B9,LEFT(C9,4),LEFT(D9,4)) | I9: =VLOOKUP($A9,calculs!$A$2:$J$500,10,0) -> #N/A | K9: F | L9: =COUNTIFS($I$2:$I$500,K9) -> 0 | M9: =L9/$L$13 -> #DIV/0!
A10: =CONCATENATE(B10,LEFT(C10,4),LEFT(D10,4)) | I10: =VLOOKUP($A10,calculs!$A$2:$J$500,10,0) -> #N/A | K10: G | L10: =COUNTIFS($I$2:$I$500,K10) -> 0 | M10: =L10/$L$13 -> #DIV/0!
A11: =CONCATENATE(B11,LEFT(C11,4),LEFT(D11,4)) | I11: =VLOOKUP($A11,calculs!$A$2:$J$500,10,0) -> #N/A | K11: H | L11: =COUNTIFS($I$2:$I$500,K11) -> 0 | M11: =L11/$L$13 -> #DIV/0!
A12: =CONCATENATE(B12,LEFT(C12,4),LEFT(D12,4)) | I12: =VLOOKUP($A12,calculs!$A$2:$J$500,10,0) -> #N/A
A13: =CONCATENATE(B13,LEFT(C13,4),LEFT(D13,4)) | I13: =VLOOKUP($A13,calculs!$A$2:$J$500,10,0) -> #N/A | K13: Total | L13: =COUNTIFS(I2:I500,"A")+COUNTIFS(I2:I500, "B")+COUNTIFS(I2:I500,"C")+COUNTIFS(I2:I500,"D")+COUNTIFS(I2:I500,"E")+COUNTIFS(I2:I500,"F")+COUNTIFS(I2:I500,"G")+COUNTIFS(I2:I500,"H") -> 0 | M13: =L13/$L$13 -> #DIV/0!
A14: =CONCATENATE(B14,LEFT(C14,4),LEFT(D14,4)) | I14: =VLOOKUP($A14,calculs!$A$2:$J$500,10,0) -> #N/A
A15: =CONCATENATE(B15,LEFT(C15,4),LEFT(D15,4)) | I15: =VLOOKUP($A15,calculs!$A$2:$J$500,10,0) -> #N/A
A16: =CONCATENATE(B16,LEFT(C16,4),LEFT(D16,4)) | I16: =VLOOKUP($A16,calculs!$A$2:$J$500,10,0) -> #N/A
A17: =CONCATENATE(B17,LEFT(C17,4),LEFT(D17,4)) | I17: =VLOOKUP($A17,calculs!$A$2:$J$500,10,0) -> #N/A
A18: =CONCATENATE(B18,LEFT(C18,4),LEFT(D18,4)) | I18: =VLOOKUP($A18,calculs!$A$2:$J$500,10,0) -> #N/A
A19: =CONCATENATE(B19,LEFT(C19,4),LEFT(D19,4)) | I19: =VLOOKUP($A19,calculs!$A$2:$J$500,10,0) -> #N/A
A20: =CONCATENATE(B20,LEFT(C20,4),LEFT(D20,4)) | I20: =VLOOKUP($A20,calculs!$A$2:$J$500,10,0) -> #N/A
A21: =CONCATENATE(B21,LEFT(C21,4),LEFT(D21,4)) | I21: =VLOOKUP($A21,calculs!$A$2:$J$500,10,0) -> #N/A
A22: =CONCATENATE(B22,LEFT(C22,4),LEFT(D22,4)) | I22: =VLOOKUP($A22,calculs!$A$2:$J$500,10,0) -> #N/A
A23: =CONCATENATE(B23,LEFT(C23,4),LEFT(D23,4)) | I23: =VLOOKUP($A23,calculs!$A$2:$J$500,10,0) -> #N/A
A24: =CONCATENATE(B24,LEFT(C24,4),LEFT(D24,4)) | I24: =VLOOKUP($A24,calculs!$A$2:$J$500,10,0) -> #N/A
A25: =CONCATENATE(B25,LEFT(C25,4),LEFT(D25,4)) | I25: =VLOOKUP($A25,calculs!$A$2:$J$500,10,0) -> #N/A
... A456: =CONCATENATE(B456,LEFT(C456,4),LEFT(D456,4)) | I456: =VLOOKUP($A456,calculs!$A$2:$J$500,10,0) -> #N/A

Sheet profils
A1: profil | B1: test spécifiques - Automatismes | C1: expressions algébriques | D1: nombres et calculs | E1: Organisation et gestions de données | F1: Hypothèses | G1: Actions possibles
A2: A | B2: Satisfaisant | C2: Satisfaisant | D2: Satisfaisant | E2: Satisfaisant | F2: Les élèves semblent maîtriser les automatismes de calcul numérique (opérations sur les fractions, puissances et pourcentages) et les automatismes de calcul littéral (réduction, développement simple, résolution d’équation du type ax=b). Ils sont capables d’extraire et de traiter l’information de figures et d’énoncés complexes et de mettre en œuvre des changements de registre | G2: Il peut être intéressant de leur proposer soit : de réaliser des exercices d’approfondissement (choisis par vos soins ou par exemple choisis par eux-mêmes dans leur manuel, ces élèves ayant déjà acquis de nombreuses compétences) ; de choisir d’aider leurs camarades à développer des stratégies, à effectuer une vérification, à cibler leurs erreurs grâce à leur recul sur la notion, en restant vigilant afin qu’ils ne donnent pas la réponse.
A3: B | B3: Satisfaisant | C3: Satisfaisant | D3: Satisfaisant | E3: Fragile/ A besoins | F3: Les élèves semblent maîtriser les automatismes de calcul numérique (opérations sur les fractions, puissances et pourcentages) et les automatismes de calcul littéral (réduction, développement simple, résolution d’équation du type ax=b). | G3: Une action ciblée sur la résolution des problèmes de proportionnalité, l'interprétation et le traitement de des données et la notion de fonction . Il serait intéressant de croiser avec le degré de maîtrise obtenu dans le domaine " compréhension d'un texte" en français. La verbalisation des problèmes de proportionnalité pour créer des automatismes (additivité, homogénéité, retour à l’unité) facilitera le passage à l'écrit
B4: Fragile/ A besoins | C4: Satisfaisant | D4: Satisfaisant | E4: Fragile/ A besoins
A5: C | B5: Satisfaisant | C5: Satisfaisant | D5: Fragile/ A besoins | E5: Satisfaisant | F5: Les élèves ont une connaissance élémentaire du nombre mais il semblerait qu'ils aient une certaine fragilité quant à leur utilisation et leur interprétation : passer d'une représentation d'un nombre à une autre, comparer des nombres , établir le lien entre ses diverses écritures | G5: En liaison avec un approfondissement sur l’étude des multiples et diviseurs, on consolide la pratique du calcul sur les fractions et les nombres décimaux, le passage d'une représentation d'un nombre à une autre (écriture décimale ou fractionnaire, notation scientifique, repérage sur une droite graduée), ainsi que des calculs numériques simples impliquant des puissances, notamment l'écriture scientifique en lien avec les autres disciplines.
B6: Fragile/ A besoins | C6: Satisfaisant | D6: Fragile/ A besoins | E6: Satisfaisant
B7: Satisfaisant | C7: Fragile/ A besoins | D7: Fragile/ A besoins | E7: Satisfaisant
B8: Fragile/ A besoins | C8: Fragile/ A besoins | D8: Fragile/ A besoins | E8: Satisfaisant
A9: D | B9: Satisfaisant | C9: Fragile/ A besoins | D9: Satisfaisant | E9: Satisfaisant | F9: Les élèves semblent maîtriser les automatismes de calcul numérique (opérations sur les fractions, puissances et pourcentages), mais éprouver des difficultés face à des tâches intermédiaires et à la résolution de problèmes. Ils peuvent également rencontrer des difficultés avec le calcul littéral. Les situations contextualisées semblent leur réussir au contraire de celles internes aux mathématiques. | G9: Des exercices mettant en avant le statut de la lettre et du signe "=" peuvent être proposés. Une verbalisation de la situation, la substitution de la lettre par une valeur, un travail sur la distinction entre égalité vraie (ou vérifiée) pour certaines valeurs d'une lettre et identité (égalité vraie pour toute valeur) etc. afin que l'élève puisse passer le cap de l'abstraction.
B10: Fragile/ A besoins | C10: Fragile/ A besoins | D10: Satisfaisant | E10: Satisfaisant
A11: E | B11: Satisfaisant | C11: Fragile/ A besoins | D11: Satisfaisant | E11: Fragile/ A besoins | F11: Les élèves semblent maîtriser les automatismes de calcul numérique mais éprouver des difficultés face au calcul littéral et à la résolution de problèmes relevant de la proportionnalité. | G11: Amener à verbaliser des problèmes de proportionnalité pour créer des automatismes (additivité, homogénéité, retour à l’unité) et les utiliser pour donner sens à la lettre en la substituant notamment dans une expression algébrique.
B12: Fragile/ A besoins | C12: Fragile/ A besoins | D12: Satisfaisant | E12: Fragile/ A besoins
A13: F | B13: Satisfaisant | C13: Satisfaisant | D13: Fragile/ A besoins | E13: Fragile/ A besoins | F13: Les élèves semblent avoir des difficultés avec l'utilisation des nombres et le calcul, qui se traduisent par une fragilité dans la résolution de problèmes. | G13: Utiliser différents modes de représentation d’une proportion : fraction décimale, nombre décimal, fraction irréductible, pourcentage. Procéder à une remédiation sur le thème "nombres et calculs" (actions C) et les utiliser dans des problèmes à une étape dans un premier temps et notamment en lien avec les autres disciplines.
B14: Satisfaisant | C14: Fragile/ A besoins | D14: Fragile/ A besoins | E14: Fragile/ A besoins
A15: G | B15: Fragile/ A besoins | C15: Satisfaisant | D15: Fragile/ A besoins | E15: Fragile/ A besoins | F15: Les élèves ont de multiples fragilités. D'autres obstacles mériteraient d'être identifiés : élèves allophones, à grandes difficultés scolaires, EBEP, etc. | G15: Croiser avec les résultats des tests de français. Prioriser les actions , notamment sur le thème " Nombres et Calculs" en proposant les remédiations du profil C.
B16: Fragile/ A besoins | C16: Fragile/ A besoins | D16: Fragile/ A besoins | E16: Fragile/ A besoins
A17: H | B17: Fragile/ A besoins | C17: Satisfaisant | D17: Satisfaisant | E17: Satisfaisant | F17: Les élèves semblent avoir des fragilités face aux questions "flash". | G17: Les résultats au test spécifique permettront de cibler les difficultés rencontrées par l'élève et de repérer le (ou les) domaine(s) nécessitant une remédiation. Conjointement, on pourra mener un travail sur le calcul qui demande de la réflexion, du raisonnement mathématique avec des méthodes diverses, motivantes et enrichissantes pour construire le sens et la notion de nombre et être en capacité d'automatiser les procédures les plus efficaces.

Sheet calculs
A1: id | B1: Classe | C1: Prénom élève | D1: Nom élève | E1: Organisation et gestions de données | F1: Nombres et calculs | G1: Expressions algébriques | H1: Test Spécifique - Automatismes | I1: indice profil | J1: profil | Q1: groupe | R1: Organisation et gestions de données | S1: nombres et calculs | T1: expressions algébriques | U1: test spécifiques - Automatismes
A2: =CONCATENATE(B2,LEFT(C2,4),LEFT(D2,4)) -> 000 | B2: =données!B2 -> 0 | C2: =données!C2 -> 0 | D2: =données!D2 -> 0 | E2: =IF(OR(VLOOKUP($A2,données!$A$2:$H$500,8,0)=$M$2,VLOOKUP($A2,données!$A$2:$H$500,8,0)=$M$3,VLOOKUP($A2,données!$A$2:$H$500,8,0)=$M$4),1,0) -> #N/A | F2: =IF(OR(VLOOKUP($A2,données!$A$2:$H$500,7,0)=$M$2,VLOOKUP($A2,données!$A$2:$H$500,7,0)=$M$3,VLOOKUP($A2,données!$A$2:$H$500,7,0)=$M$4),1,0) -> #N/A | G2: =IF(OR(VLOOKUP($A2,données!$A$2:$H$500,6,0)=$M$2,VLOOKUP($A2,données!$A$2:$H$500,6,0)=$M$3,VLOOKUP($A2,données!$A$2:$H$500,6,0)=$M$4),1,0) -> #N/A | H2: =IF(OR(VLOOKUP($A2,données!$A$2:$H$500,5,0)=$M$2,VLOOKUP($A2,données!$A$2:$H$500,5,0)=$M$3,VLOOKUP($A2,données!$A$2:$H$500,5,0)=$M$4),1,0) -> #N/A | I2: =H2+2*G2+4*F2+8*E2 -> #N/A | J2: =VLOOKUP(I2,$P$2:$Q$17,2,0) -> #N/A | M2: Pas de restitution | N2: 1 | P2: 0 | Q2: A | R2: Satisfaisant | S2: Satisfaisant | T2: Satisfaisant | U2: Satisfaisant
A3: =CONCATENATE(B3,LEFT(C3,4),LEFT(D3,4)) -> 000 | B3: =données!B3 -> 0 | C3: =données!C3 -> 0 | D3: =données!D3 -> 0 | E3: =IF(OR(VLOOKUP($A3,données!$A$2:$H$500,8,0)=$M$2,VLOOKUP($A3,données!$A$2:$H$500,8,0)=$M$3,VLOOKUP($A3,données!$A$2:$H$500,8,0)=$M$4),1,0) -> #N/A | F3: =IF(OR(VLOOKUP($A3,données!$A$2:$H$500,7,0)=$M$2,VLOOKUP($A3,données!$A$2:$H$500,7,0)=$M$3,VLOOKUP($A3,données!$A$2:$H$500,7,0)=$M$4),1,0) -> #N/A | G3: =IF(OR(VLOOKUP($A3,données!$A$2:$H$500,6,0)=$M$2,VLOOKUP($A3,données!$A$2:$H$500,6,0)=$M$3,VLOOKUP($A3,données!$A$2:$H$500,6,0)=$M$4),1,0) -> #N/A | H3: =IF(OR(VLOOKUP($A3,données!$A$2:$H$500,5,0)=$M$2,VLOOKUP($A3,données!$A$2:$H$500,5,0)=$M$3,VLOOKUP($A3,données!$A$2:$H$500,5,0)=$M$4),1,0) -> #N/A | I3: =H3+2*G3+4*F3+8*E3 -> #N/A | J3: =VLOOKUP(I3,$P$2:$Q$17,2,0) -> #N/A | M3: à besoins | N3: 1 | P3: 1 | Q3: H | R3: satisfaisant | S3: Satisfaisant | T3: Satisfaisant | U3: Fragile/ A besoins
A4: =CONCATENATE(B4,LEFT(C4,4),LEFT(D4,4)) -> 000 | B4: =données!B4 -> 0 | C4: =données!C4 -> 0 | D4: =données!D4 -> 0 | E4: =IF(OR(VLOOKUP($A4,données!$A$2:$H$500,8,0)=$M$2,VLOOKUP($A4,données!$A$2:$H$500,8,0)=$M$3,VLOOKUP($A4,données!$A$2:$H$500,8,0)=$M$4),1,0) -> #N/A | F4: =IF(OR(VLOOKUP($A4,données!$A$2:$H$500,7,0)=$M$2,VLOOKUP($A4,données!$A$2:$H$500,7,0)=$M$3,VLOOKUP($A4,données!$A$2:$H$500,7,0)=$M$4),1,0) -> #N/A | G4: =IF(OR(VLOOKUP($A4,données!$A$2:$H$500,6,0)=$M$2,VLOOKUP($A4,données!$A$2:$H$500,6,0)=$M$3,VLOOKUP($A4,données!$A$2:$H$500,6,0)=$M$4),1,0) -> #N/A | H4: =IF(OR(VLOOKUP($A4,données!$A$2:$H$500,5,0)=$M$2,VLOOKUP($A4,données!$A$2:$H$500,5,0)=$M$3,VLOOKUP($A4,données!$A$2:$H$500,5,0)=$M$4),1,0) -> #N/A | I4: =H4+2*G4+4*F4+8*E4 -> #N/A | J4: =VLOOKUP(I4,$P$2:$Q$17,2,0) -> #N/A | M4: fragile | N4: 1 | P4: 2 | Q4: D | R4: satisfaisant | S4: Satisfaisant | T4: Fragile/ A besoins | U4: Satisfaisant
A5: =CONCATENATE(B5,LEFT(C5,4),LEFT(D5,4)) -> 000 | B5: =données!B5 -> 0 | C5: =données!C5 -> 0 | D5: =données!D5 -> 0 | E5: =IF(OR(VLOOKUP($A5,données!$A$2:$H$500,8,0)=$M$2,VLOOKUP($A5,données!$A$2:$H$500,8,0)=$M$3,VLOOKUP($A5,données!$A$2:$H$500,8,0)=$M$4),1,0) -> #N/A | F5: =IF(OR(VLOOKUP($A5,données!$A$2:$H$500,7,0)=$M$2,VLOOKUP($A5,données!$A$2:$H$500,7,0)=$M$3,VLOOKUP($A5,données!$A$2:$H$500,7,0)=$M$4),1,0) -> #N/A | G5: =IF(OR(VLOOKUP($A5,données!$A$2:$H$500,6,0)=$M$2,VLOOKUP($A5,données!$A$2:$H$500,6,0)=$M$3,VLOOKUP($A5,données!$A$2:$H$500,6,0)=$M$4),1,0) -> #N/A | H5: =IF(OR(VLOOKUP($A5,données!$A$2:$H$500,5,0)=$M$2,VLOOKUP($A5,données!$A$2:$H$500,5,0)=$M$3,VLOOKUP($A5,données!$A$2:$H$500,5,0)=$M$4),1,0) -> #N/A | I5: =H5+2*G5+4*F5+8*E5 -> #N/A | J5: =VLOOKUP(I5,$P$2:$Q$17,2,0) -> #N/A | M5: satisfaisant | N5: 0 | P5: 3 | Q5: D | R5: satisfaisant | S5: Satisfaisant | T5: Fragile/ A besoins | U5: Fragile/ A besoins
A6: =CONCATENATE(B6,LEFT(C6,4),LEFT(D6,4)) -> 000 | B6: =données!B6 -> 0 | C6: =données!C6 -> 0 | D6: =données!D6 -> 0 | E6: =IF(OR(VLOOKUP($A6,données!$A$2:$H$500,8,0)=$M$2,VLOOKUP($A6,données!$A$2:$H$500,8,0)=$M$3,VLOOKUP($A6,données!$A$2:$H$500,8,0)=$M$4),1,0) -> #N/A | F6: =IF(OR(VLOOKUP($A6,données!$A$2:$H$500,7,0)=$M$2,VLOOKUP($A6,données!$A$2:$H$500,7,0)=$M$3,VLOOKUP($A6,données!$A$2:$H$500,7,0)=$M$4),1,0) -> #N/A | G6: =IF(OR(VLOOKUP($A6,données!$A$2:$H$500,6,0)=$M$2,VLOOKUP($A6,données!$A$2:$H$500,6,0)=$M$3,VLOOKUP($A6,données!$A$2:$H$500,6,0)=$M$4),1,0) -> #N/A | H6: =IF(OR(VLOOKUP($A6,données!$A$2:$H$500,5,0)=$M$2,VLOOKUP($A6,données!$A$2:$H$500,5,0)=$M$3,VLOOKUP($A6,données!$A$2:$H$500,5,0)=$M$4),1,0) -> #N/A | I6: =H6+2*G6+4*F6+8*E6 -> #N/A | J6: =VLOOKUP(I6,$P$2:$Q$17,2,0) -> #N/A | P6: 4 | Q6: C | R6: satisfaisant | S6: Fragile/ A besoins | T6: Satisfaisant | U6: Satisfaisant
A7: =CONCATENATE(B7,LEFT(C7,4),LEFT(D7,4)) -> 000 | B7: =données!B7 -> 0 | C7: =données!C7 -> 0 | D7: =données!D7 -> 0 | E7: =IF(OR(VLOOKUP($A7,données!$A$2:$H$500,8,0)=$M$2,VLOOKUP($A7,données!$A$2:$H$500,8,0)=$M$3,VLOOKUP($A7,données!$A$2:$H$500,8,0)=$M$4),1,0) -> #N/A | F7: =IF(OR(VLOOKUP($A7,données!$A$2:$H$500,7,0)=$M$2,VLOOKUP($A7,données!$A$2:$H$500,7,0)=$M$3,VLOOKUP($A7,données!$A$2:$H$500,7,0)=$M$4),1,0) -> #N/A | G7: =IF(OR(VLOOKUP($A7,données!$A$2:$H$500,6,0)=$M$2,VLOOKUP($A7,données!$A$2:$H$500,6,0)=$M$3,VLOOKUP($A7,données!$A$2:$H$500,6,0)=$M$4),1,0) -> #N/A | H7: =IF(OR(VLOOKUP($A7,données!$A$2:$H$500,5,0)=$M$2,VLOOKUP($A7,données!$A$2:$H$500,5,0)=$M$3,VLOOKUP($A7,données!$A$2:$H$500,5,0)=$M$4),1,0) -> #N/A | I7: =H7+2*G7+4*F7+8*E7 -> #N/A | J7: =VLOOKUP(I7,$P$2:$Q$17,2,0) -> #N/A | P7: 5 | Q7: C | R7: satisfaisant | S7: Fragile/ A besoins | T7: Satisfaisant | U7: Fragile/ A besoins
A8: =CONCATENATE(B8,LEFT(C8,4),LEFT(D8,4)) -> 000 | B8: =données!B8 -> 0 | C8: =données!C8 -> 0 | D8: =données!D8 -> 0 | E8: =IF(OR(VLOOKUP($A8,données!$A$2:$H$500,8,0)=$M$2,VLOOKUP($A8,données!$A$2:$H$500,8,0)=$M$3,VLOOKUP($A8,données!$A$2:$H$500,8,0)=$M$4),1,0) -> #N/A | F8: =IF(OR(VLOOKUP($A8,données!$A$2:$H$500,7,0)=$M$2,VLOOKUP($A8,données!$A$2:$H$500,7,0)=$M$3,VLOOKUP($A8,données!$A$2:$H$500,7,0)=$M$4),1,0) -> #N/A | G8: =IF(OR(VLOOKUP($A8,données!$A$2:$H$500,6,0)=$M$2,VLOOKUP($A8,données!$A$2:$H$500,6,0)=$M$3,VLOOKUP($A8,données!$A$2:$H$500,6,0)=$M$4),1,0) -> #N/A | H8: =IF(OR(VLOOKUP($A8,données!$A$2:$H$500,5,0)=$M$2,VLOOKUP($A8,données!$A$2:$H$500,5,0)=$M$3,VLOOKUP($A8,données!$A$2:$H$500,5,0)=$M$4),1,0) -> #N/A | I8: =H8+2*G8+4*F8+8*E8 -> #N/A | J8: =VLOOKUP(I8,$P$2:$Q$17,2,0) -> #N/A | P8: 6 | Q8: C | R8: satisfaisant | S8: Fragile/ A besoins | T8: Fragile/ A besoins | U8: Satisfaisant
A9: =CONCATENATE(B9,LEFT(C9,4),LEFT(D9,4)) -> 000 | B9: =données!B9 -> 0 | C9: =données!C9 -> 0 | D9: =données!D9 -> 0 | E9: =IF(OR(VLOOKUP($A9,données!$A$2:$H$500,8,0)=$M$2,VLOOKUP($A9,données!$A$2:$H$500,8,0)=$M$3,VLOOKUP($A9,données!$A$2:$H$500,8,0)=$M$4),1,0) -> #N/A | F9: =IF(OR(VLOOKUP($A9,données!$A$2:$H$500,7,0)=$M$2,VLOOKUP($A9,données!$A$2:$H$500,7,0)=$M$3,VLOOKUP($A9,données!$A$2:$H$500,7,0)=$M$4),1,0) -> #N/A | G9: =IF(OR(VLOOKUP($A9,données!$A$2:$H$500,6,0)=$M$2,VLOOKUP($A9,données!$A$2:$H$500,6,0)=$M$3,VLOOKUP($A9,données!$A$2:$H$500,6,0)=$M$4),1,0) -> #N/A | H9: =IF(OR(VLOOKUP($A9,données!$A$2:$H$500,5,0)=$M$2,VLOOKUP($A9,données!$A$2:$H$500,5,0)=$M$3,VLOOKUP($A9,données!$A$2:$H$500,5,0)=$M$4),1,0) -> #N/A | I9: =H9+2*G9+4*F9+8*E9 -> #N/A | J9: =VLOOKUP(I9,$P$2:$Q$17,2,0) -> #N/A | P9: 7 | Q9: C | R9: Satisfaisant | S9: Fragile/ A besoins | T9: Fragile/ A besoins | U9: Fragile/ A besoins
A10: =CONCATENATE(B10,LEFT(C10,4),LEFT(D10,4)) -> 000 | B10: =données!B10 -> 0 | C10: =données!C10 -> 0 | D10: =données!D10 -> 0 | E10: =IF(OR(VLOOKUP($A10,données!$A$2:$H$500,8,0)=$M$2,VLOOKUP($A10,données!$A$2:$H$500,8,0)=$M$3,VLOOKUP($A10,données!$A$2:$H$500,8,0)=$M$4),1,0) -> #N/A | F10: =IF(OR(VLOOKUP($A10,données!$A$2:$H$500,7,0)=$M$2,VLOOKUP($A10,données!$A$2:$H$500,7,0)=$M$3,VLOOKUP($A10,données!$A$2:$H$500,7,0)=$M$4),1,0) -> #N/A | G10: =IF(OR(VLOOKUP($A10,données!$A$2:$H$500,6,0)=$M$2,VLOOKUP($A10,données!$A$2:$H$500,6,0)=$M$3,VLOOKUP($A10,données!$A$2:$H$500,6,0)=$M$4),1,0) -> #N/A | H10: =IF(OR(VLOOKUP($A10,données!$A$2:$H$500,5,0)=$M$2,VLOOKUP($A10,données!$A$2:$H$500,5,0)=$M$3,VLOOKUP($A10,données!$A$2:$H$500,5,0)=$M$4),1,0) -> #N/A | I10: =H10+2*G10+4*F10+8*E10 -> #N/A | J10: =VLOOKUP(I10,$P$2:$Q$17,2,0) -> #N/A | P10: 8 | Q10: B | R10: Fragile/ A besoins | S10: Satisfaisant | T10: Satisfaisant | U10: Satisfaisant
A11: =CONCATENATE(B11,LEFT(C11,4),LEFT(D11,4)) -> 000 | B11: =données!B11 -> 0 | C11: =données!C11 -> 0 | D11: =données!D11 -> 0 | E11: =IF(OR(VLOOKUP($A11,données!$A$2:$H$500,8,0)=$M$2,VLOOKUP($A11,données!$A$2:$H$500,8,0)=$M$3,VLOOKUP($A11,données!$A$2:$H$500,8,0)=$M$4),1,0) -> #N/A | F11: =IF(OR(VLOOKUP($A11,données!$A$2:$H$500,7,0)=$M$2,VLOOKUP($A11,données!$A$2:$H$500,7,0)=$M$3,VLOOKUP($A11,données!$A$2:$H$500,7,0)=$M$4),1,0) -> #N/A | G11: =IF(OR(VLOOKUP($A11,données!$A$2:$H$500,6,0)=$M$2,VLOOKUP($A11,données!$A$2:$H$500,6,0)=$M$3,VLOOKUP($A11,données!$A$2:$H$500,6,0)=$M$4),1,0) -> #N/A | H11: =IF(OR(VLOOKUP($A11,données!$A$2:$H$500,5,0)=$M$2,VLOOKUP($A11,données!$A$2:$H$500,5,0)=$M$3,VLOOKUP($A11,données!$A$2:$H$500,5,0)=$M$4),1,0) -> #N/A | I11: =H11+2*G11+4*F11+8*E11 -> #N/A | J11: =VLOOKUP(I11,$P$2:$Q$17,2,0) -> #N/A | P11: 9 | Q11: B | R11: Fragile/ A besoins | S11: Satisfaisant | T11: Satisfaisant | U11: Fragile/ A besoins
A12: =CONCATENATE(B12,LEFT(C12,4),LEFT(D12,4)) -> 000 | B12: =données!B12 -> 0 | C12: =données!C12 -> 0 | D12: =données!D12 -> 0 | E12: =IF(OR(VLOOKUP($A12,données!$A$2:$H$500,8,0)=$M$2,VLOOKUP($A12,données!$A$2:$H$500,8,0)=$M$3,VLOOKUP($A12,données!$A$2:$H$500,8,0)=$M$4),1,0) -> #N/A | F12: =IF(OR(VLOOKUP($A12,données!$A$2:$H$500,7,0)=$M$2,VLOOKUP($A12,données!$A$2:$H$500,7,0)=$M$3,VLOOKUP($A12,données!$A$2:$H$500,7,0)=$M$4),1,0) -> #N/A | G12: =IF(OR(VLOOKUP($A12,données!$A$2:$H$500,6,0)=$M$2,VLOOKUP($A12,données!$A$2:$H$500,6,0)=$M$3,VLOOKUP($A12,données!$A$2:$H$500,6,0)=$M$4),1,0) -> #N/A | H12: =IF(OR(VLOOKUP($A12,données!$A$2:$H$500,5,0)=$M$2,VLOOKUP($A12,données!$A$2:$H$500,5,0)=$M$3,VLOOKUP($A12,données!$A$2:$H$500,5,0)=$M$4),1,0) -> #N/A | I12: =H12+2*G12+4*F12+8*E12 -> #N/A | J12: =VLOOKUP(I12,$P$2:$Q$17,2,0) -> #N/A | P12: 10 | Q12: E | R12: Fragile/ A besoins | S12: Satisfaisant | T12: Fragile/ A besoins | U12: Satisfaisant
A13: =CONCATENATE(B13,LEFT(C13,4),LEFT(D13,4)) -> 000 | B13: =données!B13 -> 0 | C13: =données!C13 -> 0 | D13: =données!D13 -> 0 | E13: =IF(OR(VLOOKUP($A13,données!$A$2:$H$500,8,0)=$M$2,VLOOKUP($A13,données!$A$2:$H$500,8,0)=$M$3,VLOOKUP($A13,données!$A$2:$H$500,8,0)=$M$4),1,0) -> #N/A | F13: =IF(OR(VLOOKUP($A13,données!$A$2:$H$500,7,0)=$M$2,VLOOKUP($A13,données!$A$2:$H$500,7,0)=$M$3,VLOOKUP($A13,données!$A$2:$H$500,7,0)=$M$4),1,0) -> #N/A | G13: =IF(OR(VLOOKUP($A13,données!$A$2:$H$500,6,0)=$M$2,VLOOKUP($A13,données!$A$2:$H$500,6,0)=$M$3,VLOOKUP($A13,données!$A$2:$H$500,6,0)=$M$4),1,0) -> #N/A | H13: =IF(OR(VLOOKUP($A13,données!$A$2:$H$500,5,0)=$M$2,VLOOKUP($A13,données!$A$2:$H$500,5,0)=$M$3,VLOOKUP($A13,données!$A$2:$H$500,5,0)=$M$4),1,0) -> #N/A | I13: =H13+2*G13+4*F13+8*E13 -> #N/A | J13: =VLOOKUP(I13,$P$2:$Q$17,2,0) -> #N/A | P13: 11 | Q13: E | R13: Fragile/ A besoins | S13: Satisfaisant | T13: Fragile/ A besoins | U13: Fragile/ A besoins
A14: =CONCATENATE(B14,LEFT(C14,4),LEFT(D14,4)) -> 000 | B14: =données!B14 -> 0 | C14: =données!C14 -> 0 | D14: =données!D14 -> 0 | E14: =IF(OR(VLOOKUP($A14,données!$A$2:$H$500,8,0)=$M$2,VLOOKUP($A14,données!$A$2:$H$500,8,0)=$M$3,VLOOKUP($A14,données!$A$2:$H$500,8,0)=$M$4),1,0) -> #N/A | F14: =IF(OR(VLOOKUP($A14,données!$A$2:$H$500,7,0)=$M$2,VLOOKUP($A14,données!$A$2:$H$500,7,0)=$M$3,VLOOKUP($A14,données!$A$2:$H$500,7,0)=$M$4),1,0) -> #N/A | G14: =IF(OR(VLOOKUP($A14,données!$A$2:$H$500,6,0)=$M$2,VLOOKUP($A14,données!$A$2:$H$500,6,0)=$M$3,VLOOKUP($A14,données!$A$2:$H$500,6,0)=$M$4),1,0) -> #N/A | H14: =IF(OR(VLOOKUP($A14,données!$A$2:$H$500,5,0)=$M$2,VLOOKUP($A14,données!$A$2:$H$500,5,0)=$M$3,VLOOKUP($A14,données!$A$2:$H$500,5,0)=$M$4),1,0) -> #N/A | I14: =H14+2*G14+4*F14+8*E14 -> #N/A | J14: =VLOOKUP(I14,$P$2:$Q$17,2,0) -> #N/A | P14: 12 | Q14: F | R14: Fragile/ A besoins | S14: Fragile/ A besoins | T14: Satisfaisant | U14: Satisfaisant
A15: =CONCATENATE(B15,LEFT(C15,4),LEFT(D15,4)) -> 000 | B15: =données!B15 -> 0 | C15: =données!C15 -> 0 | D15: =données!D15 -> 0 | E15: =IF(OR(VLOOKUP($A15,données!$A$2:$H$500,8,0)=$M$2,VLOOKUP($A15,données!$A$2:$H$500,8,0)=$M$3,VLOOKUP($A15,données!$A$2:$H$500,8,0)=$M$4),1,0) -> #N/A | F15: =IF(OR(VLOOKUP($A15,données!$A$2:$H$500,7,0)=$M$2,VLOOKUP($A15,données!$A$2:$H$500,7,0)=$M$3,VLOOKUP($A15,données!$A$2:$H$500,7,0)=$M$4),1,0) -> #N/A | G15: =IF(OR(VLOOKUP($A15,données!$A$2:$H$500,6,0)=$M$2,VLOOKUP($A15,données!$A$2:$H$500,6,0)=$M$3,VLOOKUP($A15,données!$A$2:$H$500,6,0)=$M$4),1,0) -> #N/A | H15: =IF(OR(VLOOKUP($A15,données!$A$2:$H$500,5,0)=$M$2,VLOOKUP($A15,données!$A$2:$H$500,5,0)=$M$3,VLOOKUP($A15,données!$A$2:$H$500,5,0)=$M$4),1,0) -> #N/A | I15: =H15+2*G15+4*F15+8*E15 -> #N/A | J15: =VLOOKUP(I15,$P$2:$Q$17,2,0) -> #N/A | P15: 13 | Q15: G | R15: Fragile/ A besoins | S15: Fragile/ A besoins | T15: Satisfaisant | U15: Fragile/ A besoins
A16: =CONCATENATE(B16,LEFT(C16,4),LEFT(D16,4)) -> 000 | B16: =données!B16 -> 0 | C16: =données!C16 -> 0 | D16: =données!D16 -> 0 | E16: =IF(OR(VLOOKUP($A16,données!$A$2:$H$500,8,0)=$M$2,VLOOKUP($A16,données!$A$2:$H$500,8,0)=$M$3,VLOOKUP($A16,données!$A$2:$H$500,8,0)=$M$4),1,0) -> #N/A | F16: =IF(OR(VLOOKUP($A16,données!$A$2:$H$500,7,0)=$M$2,VLOOKUP($A16,données!$A$2:$H$500,7,0)=$M$3,VLOOKUP($A16,données!$A$2:$H$500,7,0)=$M$4),1,0) -> #N/A | G16: =IF(OR(VLOOKUP($A16,données!$A$2:$H$500,6,0)=$M$2,VLOOKUP($A16,données!$A$2:$H$500,6,0)=$M$3,VLOOKUP($A16,données!$A$2:$H$500,6,0)=$M$4),1,0) -> #N/A | H16: =IF(OR(VLOOKUP($A16,données!$A$2:$H$500,5,0)=$M$2,VLOOKUP($A16,données!$A$2:$H$500,5,0)=$M$3,VLOOKUP($A16,données!$A$2:$H$500,5,0)=$M$4),1,0) -> #N/A | I16: =H16+2*G16+4*F16+8*E16 -> #N/A | J16: =VLOOKUP(I16,$P$2:$Q$17,2,0) -> #N/A | P16: 14 | Q16: F | R16: Fragile/ A besoins | S16: Fragile/ A besoins | T16: Fragile/ A besoins | U16: Satisfaisant
A17: =CONCATENATE(B17,LEFT(C17,4),LEFT(D17,4)) -> 000 | B17: =données!B17 -> 0 | C17: =données!C17 -> 0 | D17: =données!D17 -> 0 | E17: =IF(OR(VLOOKUP($A17,données!$A$2:$H$500,8,0)=$M$2,VLOOKUP($A17,données!$A$2:$H$500,8,0)=$M$3,VLOOKUP($A17,données!$A$2:$H$500,8,0)=$M$4),1,0) -> #N/A | F17: =IF(OR(VLOOKUP($A17,données!$A$2:$H$500,7,0)=$M$2,VLOOKUP($A17,données!$A$2:$H$500,7,0)=$M$3,VLOOKUP($A17,données!$A$2:$H$500,7,0)=$M$4),1,0) -> #N/A | G17: =IF(OR(VLOOKUP($A17,données!$A$2:$H$500,6,0)=$M$2,VLOOKUP($A17,données!$A$2:$H$500,6,0)=$M$3,VLOOKUP($A17,données!$A$2:$H$500,6,0)=$M$4),1,0) -> #N/A | H17: =IF(OR(VLOOKUP($A17,données!$A$2:$H$500,5,0)=$M$2,VLOOKUP($A17,données!$A$2:$H$500,5,0)=$M$3,VLOOKUP($A17,données!$A$2:$H$500,5,0)=$M$4),1,0) -> #N/A | I17: =H17+2*G17+4*F17+8*E17 -> #N/A | J17: =VLOOKUP(I17,$P$2:$Q$17,2,0) -> #N/A | P17: 15 | Q17: G | R17: Fragile/ A besoins | S17: Fragile/ A besoins | T17: Fragile/ A besoins | U17: Fragile/ A besoins
A18: =CONCATENATE(B18,LEFT(C18,4),LEFT(D18,4)) -> 000 | B18: =données!B18 -> 0 | C18: =données!C18 -> 0 | D18: =données!D18 -> 0 | E18: =IF(OR(VLOOKUP($A18,données!$A$2:$H$500,8,0)=$M$2,VLOOKUP($A18,données!$A$2:$H$500,8,0)=$M$3,VLOOKUP($A18,données!$A$2:$H$500,8,0)=$M$4),1,0) -> #N/A | F18: =IF(OR(VLOOKUP($A18,données!$A$2:$H$500,7,0)=$M$2,VLOOKUP($A18,données!$A$2:$H$500,7,0)=$M$3,VLOOKUP($A18,données!$A$2:$H$500,7,0)=$M$4),1,0) -> #N/A | G18: =IF(OR(VLOOKUP($A18,données!$A$2:$H$500,6,0)=$M$2,VLOOKUP($A18,données!$A$2:$H$500,6,0)=$M$3,VLOOKUP($A18,données!$A$2:$H$500,6,0)=$M$4),1,0) -> #N/A | H18: =IF(OR(VLOOKUP($A18,données!$A$2:$H$500,5,0)=$M$2,VLOOKUP($A18,données!$A$2:$H$500,5,0)=$M$3,VLOOKUP($A18,données!$A$2:$H$500,5,0)=$M$4),1,0) -> #N/A | I18: =H18+2*G18+4*F18+8*E18 -> #N/A | J18: =VLOOKUP(I18,$P$2:$Q$17,2,0) -> #N/A
A19: =CONCATENATE(B19,LEFT(C19,4),LEFT(D19,4)) -> 000 | B19: =données!B19 -> 0 | C19: =données!C19 -> 0 | D19: =données!D19 -> 0 | E19: =IF(OR(VLOOKUP($A19,données!$A$2:$H$500,8,0)=$M$2,VLOOKUP($A19,données!$A$2:$H$500,8,0)=$M$3,VLOOKUP($A19,données!$A$2:$H$500,8,0)=$M$4),1,0) -> #N/A | F19: =IF(OR(VLOOKUP($A19,données!$A$2:$H$500,7,0)=$M$2,VLOOKUP($A19,données!$A$2:$H$500,7,0)=$M$3,VLOOKUP($A19,données!$A$2:$H$500,7,0)=$M$4),1,0) -> #N/A | G19: =IF(OR(VLOOKUP($A19,données!$A$2:$H$500,6,0)=$M$2,VLOOKUP($A19,données!$A$2:$H$500,6,0)=$M$3,VLOOKUP($A19,données!$A$2:$H$500,6,0)=$M$4),1,0) -> #N/A | H19: =IF(OR(VLOOKUP($A19,données!$A$2:$H$500,5,0)=$M$2,VLOOKUP($A19,données!$A$2:$H$500,5,0)=$M$3,VLOOKUP($A19,données!$A$2:$H$500,5,0)=$M$4),1,0) -> #N/A | I19: =H19+2*G19+4*F19+8*E19 -> #N/A | J19: =VLOOKUP(I19,$P$2:$Q$17,2,0) -> #N/A
A20: =CONCATENATE(B20,LEFT(C20,4),LEFT(D20,4)) -> 000 | B20: =données!B20 -> 0 | C20: =données!C20 -> 0 | D20: =données!D20 -> 0 | E20: =IF(OR(VLOOKUP($A20,données!$A$2:$H$500,8,0)=$M$2,VLOOKUP($A20,données!$A$2:$H$500,8,0)=$M$3,VLOOKUP($A20,données!$A$2:$H$500,8,0)=$M$4),1,0) -> #N/A | F20: =IF(OR(VLOOKUP($A20,données!$A$2:$H$500,7,0)=$M$2,VLOOKUP($A20,données!$A$2:$H$500,7,0)=$M$3,VLOOKUP($A20,données!$A$2:$H$500,7,0)=$M$4),1,0) -> #N/A | G20: =IF(OR(VLOOKUP($A20,données!$A$2:$H$500,6,0)=$M$2,VLOOKUP($A20,données!$A$2:$H$500,6,0)=$M$3,VLOOKUP($A20,données!$A$2:$H$500,6,0)=$M$4),1,0) -> #N/A | H20: =IF(OR(VLOOKUP($A20,données!$A$2:$H$500,5,0)=$M$2,VLOOKUP($A20,données!$A$2:$H$500,5,0)=$M$3,VLOOKUP($A20,données!$A$2:$H$500,5,0)=$M$4),1,0) -> #N/A | I20: =H20+2*G20+4*F20+8*E20 -> #N/A | J20: =VLOOKUP(I20,$P$2:$Q$17,2,0) -> #N/A
A21: =CONCATENATE(B21,LEFT(C21,4),LEFT(D21,4)) -> 000 | B21: =données!B21 -> 0 | C21: =données!C21 -> 0 | D21: =données!D21 -> 0 | E21: =IF(OR(VLOOKUP($A21,données!$A$2:$H$500,8,0)=$M$2,VLOOKUP($A21,données!$A$2:$H$500,8,0)=$M$3,VLOOKUP($A21,données!$A$2:$H$500,8,0)=$M$4),1,0) -> #N/A | F21: =IF(OR(VLOOKUP($A21,données!$A$2:$H$500,7,0)=$M$2,VLOOKUP($A21,données!$A$2:$H$500,7,0)=$M$3,VLOOKUP($A21,données!$A$2:$H$500,7,0)=$M$4),1,0) -> #N/A | G21: =IF(OR(VLOOKUP($A21,données!$A$2:$H$500,6,0)=$M$2,VLOOKUP($A21,données!$A$2:$H$500,6,0)=$M$3,VLOOKUP($A21,données!$A$2:$H$500,6,0)=$M$4),1,0) -> #N/A | H21: =IF(OR(VLOOKUP($A21,données!$A$2:$H$500,5,0)=$M$2,VLOOKUP($A21,données!$A$2:$H$500,5,0)=$M$3,VLOOKUP($A21,données!$A$2:$H$500,5,0)=$M$4),1,0) -> #N/A | I21: =H21+2*G21+4*F21+8*E21 -> #N/A | J21: =VLOOKUP(I21,$P$2:$Q$17,2,0) -> #N/A
A22: =CONCATENATE(B22,LEFT(C22,4),LEFT(D22,4)) -> 000 | B22: =données!B22 -> 0 | C22: =données!C22 -> 0 | D22: =données!D22 -> 0 | E22: =IF(OR(VLOOKUP($A22,données!$A$2:$H$500,8,0)=$M$2,VLOOKUP($A22,données!$A$2:$H$500,8,0)=$M$3,VLOOKUP($A22,données!$A$2:$H$500,8,0)=$M$4),1,0) -> #N/A | F22: =IF(OR(VLOOKUP($A22,données!$A$2:$H$500,7,0)=$M$2,VLOOKUP($A22,données!$A$2:$H$500,7,0)=$M$3,VLOOKUP($A22,données!$A$2:$H$500,7,0)=$M$4),1,0) -> #N/A | G22: =IF(OR(VLOOKUP($A22,données!$A$2:$H$500,6,0)=$M$2,VLOOKUP($A22,données!$A$2:$H$500,6,0)=$M$3,VLOOKUP($A22,données!$A$2:$H$500,6,0)=$M$4),1,0) -> #N/A | H22: =IF(OR(VLOOKUP($A22,données!$A$2:$H$500,5,0)=$M$2,VLOOKUP($A22,données!$A$2:$H$500,5,0)=$M$3,VLOOKUP($A22,données!$A$2:$H$500,5,0)=$M$4),1,0) -> #N/A | I22: =H22+2*G22+4*F22+8*E22 -> #N/A | J22: =VLOOKUP(I22,$P$2:$Q$17,2,0) -> #N/A
A23: =CONCATENATE(B23,LEFT(C23,4),LEFT(D23,4)) -> 000 | B23: =données!B23 -> 0 | C23: =données!C23 -> 0 | D23: =données!D23 -> 0 | E23: =IF(OR(VLOOKUP($A23,données!$A$2:$H$500,8,0)=$M$2,VLOOKUP($A23,données!$A$2:$H$500,8,0)=$M$3,VLOOKUP($A23,données!$A$2:$H$500,8,0)=$M$4),1,0) -> #N/A | F23: =IF(OR(VLOOKUP($A23,données!$A$2:$H$500,7,0)=$M$2,VLOOKUP($A23,données!$A$2:$H$500,7,0)=$M$3,VLOOKUP($A23,données!$A$2:$H$500,7,0)=$M$4),1,0) -> #N/A | G23: =IF(OR(VLOOKUP($A23,données!$A$2:$H$500,6,0)=$M$2,VLOOKUP($A23,données!$A$2:$H$500,6,0)=$M$3,VLOOKUP($A23,données!$A$2:$H$500,6,0)=$M$4),1,0) -> #N/A | H23: =IF(OR(VLOOKUP($A23,données!$A$2:$H$500,5,0)=$M$2,VLOOKUP($A23,données!$A$2:$H$500,5,0)=$M$3,VLOOKUP($A23,données!$A$2:$H$500,5,0)=$M$4),1,0) -> #N/A | I23: =H23+2*G23+4*F23+8*E23 -> #N/A | J23: =VLOOKUP(I23,$P$2:$Q$17,2,0) -> #N/A
A24: =CONCATENATE(B24,LEFT(C24,4),LEFT(D24,4)) -> 000 | B24: =données!B24 -> 0 | C24: =données!C24 -> 0 | D24: =données!D24 -> 0 | E24: =IF(OR(VLOOKUP($A24,données!$A$2:$H$500,8,0)=$M$2,VLOOKUP($A24,données!$A$2:$H$500,8,0)=$M$3,VLOOKUP($A24,données!$A$2:$H$500,8,0)=$M$4),1,0) -> #N/A | F24: =IF(OR(VLOOKUP($A24,données!$A$2:$H$500,7,0)=$M$2,VLOOKUP($A24,données!$A$2:$H$500,7,0)=$M$3,VLOOKUP($A24,données!$A$2:$H$500,7,0)=$M$4),1,0) -> #N/A | G24: =IF(OR(VLOOKUP($A24,données!$A$2:$H$500,6,0)=$M$2,VLOOKUP($A24,données!$A$2:$H$500,6,0)=$M$3,VLOOKUP($A24,données!$A$2:$H$500,6,0)=$M$4),1,0) -> #N/A | H24: =IF(OR(VLOOKUP($A24,données!$A$2:$H$500,5,0)=$M$2,VLOOKUP($A24,données!$A$2:$H$500,5,0)=$M$3,VLOOKUP($A24,données!$A$2:$H$500,5,0)=$M$4),1,0) -> #N/A | I24: =H24+2*G24+4*F24+8*E24 -> #N/A | J24: =VLOOKUP(I24,$P$2:$Q$17,2,0) -> #N/A
A25: =CONCATENATE(B25,LEFT(C25,4),LEFT(D25,4)) -> 000 | B25: =données!B25 -> 0 | C25: =données!C25 -> 0 | D25: =données!D25 -> 0 | E25: =IF(OR(VLOOKUP($A25,données!$A$2:$H$500,8,0)=$M$2,VLOOKUP($A25,données!$A$2:$H$500,8,0)=$M$3,VLOOKUP($A25,données!$A$2:$H$500,8,0)=$M$4),1,0) -> #N/A | F25: =IF(OR(VLOOKUP($A25,données!$A$2:$H$500,7,0)=$M$2,VLOOKUP($A25,données!$A$2:$H$500,7,0)=$M$3,VLOOKUP($A25,données!$A$2:$H$500,7,0)=$M$4),1,0) -> #N/A | G25: =IF(OR(VLOOKUP($A25,données!$A$2:$H$500,6,0)=$M$2,VLOOKUP($A25,données!$A$2:$H$500,6,0)=$M$3,VLOOKUP($A25,données!$A$2:$H$500,6,0)=$M$4),1,0) -> #N/A | H25: =IF(OR(VLOOKUP($A25,données!$A$2:$H$500,5,0)=$M$2,VLOOKUP($A25,données!$A$2:$H$500,5,0)=$M$3,VLOOKUP($A25,données!$A$2:$H$500,5,0)=$M$4),1,0) -> #N/A | I25: =H25+2*G25+4*F25+8*E25 -> #N/A | J25: =VLOOKUP(I25,$P$2:$Q$17,2,0) -> #N/A
A26: =CONCATENATE(B26,LEFT(C26,4),LEFT(D26,4)) -> 000 | B26: =données!B26 -> 0 | C26: =données!C26 -> 0 | D26: =données!D26 -> 0 | E26: =IF(OR(VLOOKUP($A26,données!$A$2:$H$500,8,0)=$M$2,VLOOKUP($A26,données!$A$2:$H$500,8,0)=$M$3,VLOOKUP($A26,données!$A$2:$H$500,8,0)=$M$4),1,0) -> #N/A | F26: =IF(OR(VLOOKUP($A26,données!$A$2:$H$500,7,0)=$M$2,VLOOKUP($A26,données!$A$2:$H$500,7,0)=$M$3,VLOOKUP($A26,données!$A$2:$H$500,7,0)=$M$4),1,0) -> #N/A | G26: =IF(OR(VLOOKUP($A26,données!$A$2:$H$500,6,0)=$M$2,VLOOKUP($A26,données!$A$2:$H$500,6,0)=$M$3,VLOOKUP($A26,données!$A$2:$H$500,6,0)=$M$4),1,0) -> #N/A | H26: =IF(OR(VLOOKUP($A26,données!$A$2:$H$500,5,0)=$M$2,VLOOKUP($A26,données!$A$2:$H$500,5,0)=$M$3,VLOOKUP($A26,données!$A$2:$H$500,5,0)=$M$4),1,0) -> #N/A | I26: =H26+2*G26+4*F26+8*E26 -> #N/A | J26: =VLOOKUP(I26,$P$2:$Q$17,2,0) -> #N/A
A27: =CONCATENATE(B27,LEFT(C27,4),LEFT(D27,4)) -> 000 | B27: =données!B27 -> 0 | C27: =données!C27 -> 0 | D27: =données!D27 -> 0 | E27: =IF(OR(VLOOKUP($A27,données!$A$2:$H$500,8,0)=$M$2,VLOOKUP($A27,données!$A$2:$H$500,8,0)=$M$3,VLOOKUP($A27,données!$A$2:$H$500,8,0)=$M$4),1,0) -> #N/A | F27: =IF(OR(VLOOKUP($A27,données!$A$2:$H$500,7,0)=$M$2,VLOOKUP($A27,données!$A$2:$H$500,7,0)=$M$3,VLOOKUP($A27,données!$A$2:$H$500,7,0)=$M$4),1,0) -> #N/A | G27: =IF(OR(VLOOKUP($A27,données!$A$2:$H$500,6,0)=$M$2,VLOOKUP($A27,données!$A$2:$H$500,6,0)=$M$3,VLOOKUP($A27,données!$A$2:$H$500,6,0)=$M$4),1,0) -> #N/A | H27: =IF(OR(VLOOKUP($A27,données!$A$2:$H$500,5,0)=$M$2,VLOOKUP($A27,données!$A$2:$H$500,5,0)=$M$3,VLOOKUP($A27,données!$A$2:$H$500,5,0)=$M$4),1,0) -> #N/A | I27: =H27+2*G27+4*F27+8*E27 -> #N/A | J27: =VLOOKUP(I27,$P$2:$Q$17,2,0) -> #N/A
A28: =CONCATENATE(B28,LEFT(C28,4),LEFT(D28,4)) -> 000 | B28: =données!B28 -> 0 | C28: =données!C28 -> 0 | D28: =données!D28 -> 0 | E28: =IF(OR(VLOOKUP($A28,données!$A$2:$H$500,8,0)=$M$2,VLOOKUP($A28,données!$A$2:$H$500,8,0)=$M$3,VLOOKUP($A28,données!$A$2:$H$500,8,0)=$M$4),1,0) -> #N/A | F28: =IF(OR(VLOOKUP($A28,données!$A$2:$H$500,7,0)=$M$2,VLOOKUP($A28,données!$A$2:$H$500,7,0)=$M$3,VLOOKUP($A28,données!$A$2:$H$500,7,0)=$M$4),1,0) -> #N/A | G28: =IF(OR(VLOOKUP($A28,données!$A$2:$H$500,6,0)=$M$2,VLOOKUP($A28,données!$A$2:$H$500,6,0)=$M$3,VLOOKUP($A28,données!$A$2:$H$500,6,0)=$M$4),1,0) -> #N/A | H28: =IF(OR(VLOOKUP($A28,données!$A$2:$H$500,5,0)=$M$2,VLOOKUP($A28,données!$A$2:$H$500,5,0)=$M$3,VLOOKUP($A28,données!$A$2:$H$500,5,0)=$M$4),1,0) -> #N/A | I28: =H28+2*G28+4*F28+8*E28 -> #N/A | J28: =VLOOKUP(I28,$P$2:$Q$17,2,0) -> #N/A
A29: =CONCATENATE(B29,LEFT(C29,4),LEFT(D29,4)) -> 000 | B29: =données!B29 -> 0 | C29: =données!C29 -> 0 | D29: =données!D29 -> 0 | E29: =IF(OR(VLOOKUP($A29,données!$A$2:$H$500,8,0)=$M$2,VLOOKUP($A29,données!$A$2:$H$500,8,0)=$M$3,VLOOKUP($A29,données!$A$2:$H$500,8,0)=$M$4),1,0) -> #N/A | F29: =IF(OR(VLOOKUP($A29,données!$A$2:$H$500,7,0)=$M$2,VLOOKUP($A29,données!$A$2:$H$500,7,0)=$M$3,VLOOKUP($A29,données!$A$2:$H$500,7,0)=$M$4),1,0) -> #N/A | G29: =IF(OR(VLOOKUP($A29,données!$A$2:$H$500,6,0)=$M$2,VLOOKUP($A29,données!$A$2:$H$500,6,0)=$M$3,VLOOKUP($A29,données!$A$2:$H$500,6,0)=$M$4),1,0) -> #N/A | H29: =IF(OR(VLOOKUP($A29,données!$A$2:$H$500,5,0)=$M$2,VLOOKUP($A29,données!$A$2:$H$500,5,0)=$M$3,VLOOKUP($A29,données!$A$2:$H$500,5,0)=$M$4),1,0) -> #N/A | I29: =H29+2*G29+4*F29+8*E29 -> #N/A | J29: =VLOOKUP(I29,$P$2:$Q$17,2,0) -> #N/A
... A472: =CONCATENATE(B472,LEFT(C472,4),LEFT(D472,4)) -> 000 | B472: =données!B472 -> 0 | C472: =données!C472 -> 0 | D472: =données!D472 -> 0 | E472: =IF(OR(VLOOKUP($A472,données!$A$2:$H$500,8,0)=$M$2,VLOOKUP($A472,données!$A$2:$H$500,8,0)=$M$3,VLOOKUP($A472,données!$A$2:$H$500,8,0)=$M$4),1,0) -> #N/A | F472: =IF(OR(VLOOKUP($A472,données!$A$2:$H$500,7,0)=$M$2,VLOOKUP($A472,données!$A$2:$H$500,7,0)=$M$3,VLOOKUP($A472,données!$A$2:$H$500,7,0)=$M$4),1,0) -> #N/A | G472: =IF(OR(VLOOKUP($A472,données!$A$2:$H$500,6,0)=$M$2,VLOOKUP($A472,données!$A$2:$H$500,6,0)=$M$3,VLOOKUP($A472,données!$A$2:$H$500,6,0)=$M$4),1,0) -> #N/A | H472: =IF(OR(VLOOKUP($A472,données!$A$2:$H$500,5,0)=$M$2,VLOOKUP($A472,données!$A$2:$H$500,5,0)=$M$3,VLOOKUP($A472,données!$A$2:$H$500,5,0)=$M$4),1,0) -> #N/A | I472: =H472+2*G472+4*F472+8*E472 -> #N/A | J472: =VLOOKUP(I472,$P$2:$Q$17,2,0) -> #N/A

Sheet Les ressources Eduscol
C1: Nombres et calcul | D1: Organisation et gestion des données | E1: Géométrie du raisonnement | F1: Formules algébriques | G1: Autres ressources disponibles
B2: Calculer | C2: Égalité de fractions | D2: Antivirus | F2: Distributivité expresion littérale | G2: Attendus de fin d’année en mathématiques (classe de 3e)
B3: Raisonner | C3: Distributivité simple | D3: Fonction linéaire | E3: Raisonnement implication | F3: Calcul littéral | G3: Automatismes
B4: Représenter | C4: Écriture décimale | F4: Structure expression algébrique | G4: Raisonnement et démonstration (seconde)
F5: Mise en équation | G5: Du numérique au littéral
B6: Chercher | D6: Organisation et gestion de données | E6: Somme des angles | G6: Utiliser les nombres pour comparer, calculer et résoudre des problèmes : les fractions
G7: Guide : résolution de problèmes au collège
G8: Document ressource cycle 4 sur la proportionnalité
G9: Document ressource cycle 4 « Utiliser le calcul littéral »
G10: Document ressource cycle 4 « Raisonner »
G11: Document ressource cycle 4 « Géométrie plane »
G12: Les ressources suivantes sont issues de la page Éducation économique, budgétaire et financière :
G13: La consommation des ménages en France et en Europe (seconde)
G14: Structure de la consommation des ménages en France (seconde)
